BEGIN:VCALENDAR
VERSION:2.0
PRODID:-//ChamberMaster//Event Calendar 2.0//EN
METHOD:PUBLISH
X-PUBLISHED-TTL:P1H
REFRESH-INTERVAL:P1H
CALSCALE:GREGORIAN
BEGIN:VTIMEZONE
TZID:America/Chicago
BEGIN:DAYLIGHT
RRULE:FREQ=YEARLY;BYMONTH=3;BYDAY=2SU
DTSTART:20070101T000000
TZOFFSETFROM:-0600
TZOFFSETTO:-0500
TZNAME:Central Daylight Time
END:DAYLIGHT
BEGIN:STANDARD
RRULE:FREQ=YEARLY;BYMONTH=11;BYDAY=1SU
DTSTART:20070101T000000
TZOFFSETFROM:-0500
TZOFFSETTO:-0600
TZNAME:Central Standard Time
END:STANDARD
END:VTIMEZONE
BEGIN:VEVENT
DTSTART;TZID=America/Chicago:20260509T090000
DTEND;TZID=America/Chicago:20260509T120000
X-MICROSOFT-CDO-ALLDAYEVENT:FALSE
SUMMARY:Welcome Back Monarchs Day
DESCRIPTION:Riviera Utilities is inviting the community to celebrate the return of one of nature’s most remarkable travelers during its first-ever Welcome Back Monarch Day\, taking place Saturday\, May 9\, 2026\, from 9 to 10 a.m. in Foley.\n\nDesigned to educate and inspire\, the event highlights the annual migration of monarch butterflies while encouraging residents to take part in protecting native pollinators and plant species essential to the Gulf Coast ecosystem.\n\nThe morning will begin at the Foley Civic Center (407 E. Laurel Ave.) with a presentation from Carmen Flammini\, an agent with the Alabama Cooperative Extension System\, who will share insights on monarch migration and how native pollinator gardens play a vital role in sustaining these iconic butterflies.\n\nFollowing the presentation\, attendees will “migrate” next door to the Riviera Utilities Native Pollinator Garden (413 E. Laurel Ave.) for guided tours and a milkweed plant and seed giveaway—providing participants with the tools to create pollinator-friendly spaces at home.\n\nChildren and families can also enjoy hands-on crafts and activities hosted by the Foley Public Library at both locations\, making the event an engaging experience for all ages. Complimentary water and light snacks will be available.
X-ALT-DESC;FMTTYPE=text/html:Riviera Utilities is inviting the community to celebrate the return of one of nature’s most remarkable travelers during its first-ever Welcome Back Monarch Day\, taking place Saturday\, May 9\, 2026\, from 9 to 10 a.m. in Foley.\n\nDesigned to educate and inspire\, the event highlights the annual migration of monarch butterflies while encouraging residents to take part in protecting native pollinators and plant species essential to the Gulf Coast ecosystem.\n\nThe morning will begin at the Foley Civic Center (407 E. Laurel Ave.) with a presentation from Carmen Flammini\, an agent with the Alabama Cooperative Extension System\, who will share insights on monarch migration and how native pollinator gardens play a vital role in sustaining these iconic butterflies.\n\nFollowing the presentation\, attendees will “migrate” next door to the Riviera Utilities Native Pollinator Garden (413 E. Laurel Ave.) for guided tours and a milkweed plant and seed giveaway—providing participants with the tools to create pollinator-friendly spaces at home.\n\nChildren and families can also enjoy hands-on crafts and activities hosted by the Foley Public Library at both locations\, making the event an engaging experience for all ages. Complimentary water and light snacks will be available.
LOCATION:407 E Laurel Avenue Foley AL 36535
UID:e.4650.1435088
SEQUENCE:3
DTSTAMP:20260420T175428Z
URL:https://businesshub.southbaldwinchamber.com/chamber-events/Details/welcome-back-monarchs-day-1698663?sourceTypeId=Hub
END:VEVENT
END:VCALENDAR
