BEGIN:VCALENDAR
VERSION:2.0
PRODID:-//ChamberMaster//Event Calendar 2.0//EN
METHOD:PUBLISH
X-PUBLISHED-TTL:P1H
REFRESH-INTERVAL:P1H
CALSCALE:GREGORIAN
BEGIN:VTIMEZONE
TZID:America/Chicago
BEGIN:DAYLIGHT
RRULE:FREQ=YEARLY;BYMONTH=3;BYDAY=2SU
DTSTART:20070101T000000
TZOFFSETFROM:-0600
TZOFFSETTO:-0500
TZNAME:Central Daylight Time
END:DAYLIGHT
BEGIN:STANDARD
RRULE:FREQ=YEARLY;BYMONTH=11;BYDAY=1SU
DTSTART:20070101T000000
TZOFFSETFROM:-0500
TZOFFSETTO:-0600
TZNAME:Central Standard Time
END:STANDARD
END:VTIMEZONE
BEGIN:VEVENT
DTSTART;TZID=America/Chicago:20260417T073000
DTEND;TZID=America/Chicago:20260418T213000
X-MICROSOFT-CDO-ALLDAYEVENT:FALSE
SUMMARY:The Alan Jackson Experience at OWA Theater
DESCRIPTION:The Alan Jackson Experience is a must-see performance for any country music fan. Canadian recording artist Aaron Halliday delivers a show-stopping tribute\, capturing the unmistakable voice and spirit of country music star Alan Jackson. Aaron has earned recognition across the country music industry for his original work\, including being named Entertainer of the Year by the International Singer Songwriter Association (Atlanta\, GA) in 2021. He has also received multiple nominations for songwriting\, band performance\, and humanitarian efforts through his involvement with various charities. For one night only at the OWA Theater\, you can experience this unforgettable show and feel as though Alan Jackson himself is serenading you live on stage. Grab your cowboy hat\, pull on your best boots\, and get ready for a night of timeless hits at The Alan Jackson Experience.
X-ALT-DESC;FMTTYPE=text/html:<!DOCTYPE html><html><head><title></title></head><body aria-disabled="false" spellcheck="false"><p>The Alan Jackson Experience is a must-see performance for any country music fan. Canadian recording artist Aaron Halliday delivers a show-stopping tribute\, capturing the unmistakable voice and spirit of country music star Alan Jackson. Aaron has earned recognition across the country music industry for his original work\, including being named Entertainer of the Year by the International Singer Songwriter Association (Atlanta\, GA) in 2021. He has also received multiple nominations for songwriting\, band performance\, and humanitarian efforts through his involvement with various charities.&nbsp\;</p><p>For one night only at the <strong fr-original-style="" style="font-weight: 700\;">OWA Theater</strong>\, you can experience this unforgettable show and feel as though Alan Jackson himself is serenading you live on stage. Grab your cowboy hat\, pull on your best boots\, and get ready for a night of timeless hits at The Alan Jackson Experience.</p></body></html>
LOCATION:
UID:e.4650.1427644
SEQUENCE:3
DTSTAMP:20260420T180632Z
URL:https://businesshub.southbaldwinchamber.com/chamber-events/Details/the-alan-jackson-experience-at-owa-theater-1688528?sourceTypeId=Hub
END:VEVENT
END:VCALENDAR
