BEGIN:VCALENDAR
VERSION:2.0
PRODID:-//ChamberMaster//Event Calendar 2.0//EN
METHOD:PUBLISH
X-PUBLISHED-TTL:P1H
REFRESH-INTERVAL:P1H
CALSCALE:GREGORIAN
BEGIN:VTIMEZONE
TZID:America/Chicago
BEGIN:DAYLIGHT
RRULE:FREQ=YEARLY;BYMONTH=3;BYDAY=2SU
DTSTART:20070101T000000
TZOFFSETFROM:-0600
TZOFFSETTO:-0500
TZNAME:Central Daylight Time
END:DAYLIGHT
BEGIN:STANDARD
RRULE:FREQ=YEARLY;BYMONTH=11;BYDAY=1SU
DTSTART:20070101T000000
TZOFFSETFROM:-0500
TZOFFSETTO:-0600
TZNAME:Central Standard Time
END:STANDARD
END:VTIMEZONE
BEGIN:VEVENT
DTSTART;TZID=America/Chicago:20260515T080000
DTEND;TZID=America/Chicago:20260516T170000
X-MICROSOFT-CDO-ALLDAYEVENT:FALSE
SUMMARY:Orange Beach Billfish Classic
DESCRIPTION:Join us for the first major qualifying tournament of the Gulf Coast Triple Crown Series at the Orange Beach Billfish Classic (OBBC) on May 15-16. The OBBC is a family-run tournament that emphasizes team participation and is the only tournament on the Gulf Coast owned and operated by first-class\, tournament fishermen! The OBBC includes tuna\, wahoo\, and dolphin (mahi)\, but is primarily a blue marlin tournament. The two-day event will be full of big boats\, big fish\, and big fun. And it's all for a great cause!The OBBC also serves as a major fundraiser for The Billfish Foundation (TBF)\, with it being the world's largest tournament donor to the organization. Date + Time: Friday + Saturday\, May 16+17Friday\, May 16: Possible Weigh-ins at 7 pmSaturday\, May 16: Weigh-ins will be at 6 pm Where: Weigh-ins will take place in Marlin Circle Cost: FREE admission + parking
X-ALT-DESC;FMTTYPE=text/html:<!DOCTYPE html><html><head><title></title></head><body aria-disabled="false" spellcheck="false"><p>Join us for the first major qualifying tournament of the Gulf Coast Triple Crown Series at the <strong fr-original-style="" style="font-weight: 700\;">Orange Beach Billfish Classic (OBBC)</strong> on May 15-16. The OBBC is a family-run tournament that emphasizes team participation and is the only tournament on the Gulf Coast owned and operated by first-class\, tournament fishermen!&nbsp\;</p><p>The OBBC includes tuna\, wahoo\, and dolphin (mahi)\, but is primarily a blue marlin tournament. The two-day event will be full of big boats\, big fish\, and big fun. And it&rsquo\;s all for a great cause!</p><p>The OBBC also serves as a major fundraiser for The Billfish Foundation (TBF)\, with it being the world&rsquo\;s largest tournament donor to the organization.&nbsp\;</p><p>Date + Time: Friday + Saturday\, May 16+17</p><p>Friday\, May 16: Possible Weigh-ins at 7 pm</p><p>Saturday\, May 16: Weigh-ins will be at 6 pm&nbsp\;</p><p>Where: Weigh-ins will take place in Marlin Circle&nbsp\;</p><p>Cost: <strong fr-original-style="" style="font-weight: 700\;">FREE </strong>admission + parking</p></body></html>
LOCATION:23101 Canal Road Orange Beach AL 36561
UID:e.4650.1429719
SEQUENCE:3
DTSTAMP:20260420T175516Z
URL:https://businesshub.southbaldwinchamber.com/chamber-events/Details/orange-beach-billfish-classic-1691276?sourceTypeId=Hub
END:VEVENT
END:VCALENDAR
