BEGIN:VCALENDAR
VERSION:2.0
PRODID:-//ChamberMaster//Event Calendar 2.0//EN
METHOD:PUBLISH
X-PUBLISHED-TTL:P1H
REFRESH-INTERVAL:P1H
CALSCALE:GREGORIAN
BEGIN:VTIMEZONE
TZID:America/Chicago
BEGIN:DAYLIGHT
RRULE:FREQ=YEARLY;BYMONTH=3;BYDAY=2SU
DTSTART:20070101T000000
TZOFFSETFROM:-0600
TZOFFSETTO:-0500
TZNAME:Central Daylight Time
END:DAYLIGHT
BEGIN:STANDARD
RRULE:FREQ=YEARLY;BYMONTH=11;BYDAY=1SU
DTSTART:20070101T000000
TZOFFSETFROM:-0500
TZOFFSETTO:-0600
TZNAME:Central Standard Time
END:STANDARD
END:VTIMEZONE
BEGIN:VEVENT
DTSTART;TZID=America/Chicago:20260407T100000
DTEND;TZID=America/Chicago:20260407T160000
X-MICROSOFT-CDO-ALLDAYEVENT:FALSE
SUMMARY:CSU Job Fair
DESCRIPTION:Columbia Southern University (CSU) invites local job seekers to a career fair Tuesday\, April 7\, 2026\, from 10 a.m. to 4 p.m. The career fair will take place at the CSU campus (21982 University Lane\, Orange Beach\, AL\, 36561) in the Joseph A. Manjone Center for Continuing Education.
X-ALT-DESC;FMTTYPE=text/html:<!DOCTYPE html><html><head><title></title></head><body aria-disabled="false"><p>Columbia Southern University (CSU) invites local job seekers to a career fair Tuesday\, April 7\, 2026\, from 10 a.m. to 4 p.m. The career fair will take place at the CSU campus (21982 University Lane\, Orange Beach\, AL\, 36561) in the Joseph A. Manjone Center for Continuing Education.</p></body></html>
LOCATION:21982 University Lane Orange Beach AL 36561
UID:e.4650.1422491
SEQUENCE:3
DTSTAMP:20260420T175840Z
URL:https://businesshub.southbaldwinchamber.com/chamber-events/Details/csu-job-fair-1681883?sourceTypeId=Hub
END:VEVENT
END:VCALENDAR
