BEGIN:VCALENDAR
VERSION:2.0
PRODID:-//ChamberMaster//Event Calendar 2.0//EN
METHOD:PUBLISH
X-PUBLISHED-TTL:P1H
REFRESH-INTERVAL:P1H
CALSCALE:GREGORIAN
BEGIN:VTIMEZONE
TZID:America/Chicago
BEGIN:DAYLIGHT
RRULE:FREQ=YEARLY;BYMONTH=3;BYDAY=2SU
DTSTART:20070101T000000
TZOFFSETFROM:-0600
TZOFFSETTO:-0500
TZNAME:Central Daylight Time
END:DAYLIGHT
BEGIN:STANDARD
RRULE:FREQ=YEARLY;BYMONTH=11;BYDAY=1SU
DTSTART:20070101T000000
TZOFFSETFROM:-0500
TZOFFSETTO:-0600
TZNAME:Central Standard Time
END:STANDARD
END:VTIMEZONE
BEGIN:VEVENT
DTSTART;TZID=America/Chicago:20260423T080000
DTEND;TZID=America/Chicago:20260425T170000
X-MICROSOFT-CDO-ALLDAYEVENT:FALSE
SUMMARY:Bama Coast Cruisin
DESCRIPTION:Join us for one of the Gulf Coast's most unique car shows! O'Reilly Auto Parts and Young's Suncoast Vacation Rentals present the 17th Annual 2026 Bama Coast Cruisin'. This event features cars of ALL types   classic\, hot rods\, custom models\, and more. The family-friendly weekend will be full of eye-catching cars\, fun events and entertainment\, a swap meet\, food\, and Southern hospitality. Date + Time: Thursday\, Friday + Saturday\, April 23-25 | 9 am - 5 pm Where: Main Street\, Wharf Parkway\, AMC Lot + West Marina LotCost: FREE admission + parking
X-ALT-DESC;FMTTYPE=text/html:<!DOCTYPE html><html><head><title></title></head><body aria-disabled="false" spellcheck="false"><p>Join us for one of the Gulf Coast&rsquo\;s most unique car shows! O&rsquo\;Reilly Auto Parts and Young&rsquo\;s Suncoast Vacation Rentals present the <strong fr-original-style="" style="font-weight: 700\;">17th Annual 2026 Bama Coast Cruisin&rsquo\;.</strong> This event features cars of ALL types &mdash\; classic\, hot rods\, custom models\, and more. The family-friendly weekend will be full of eye-catching cars\, fun events and entertainment\, a swap meet\, food\, and Southern hospitality.&nbsp\;</p><p>Date + Time: Thursday\, Friday + Saturday\, April 23-25 | 9 am - 5 pm&nbsp\;</p><p>Where: Main Street\, Wharf Parkway\, AMC Lot + West Marina Lot</p><p>Cost: <strong fr-original-style="" style="font-weight: 700\;">FREE </strong>admission + parking</p></body></html>
LOCATION:23101 Canal Road Orange Beach AL 36561
UID:e.4650.1429717
SEQUENCE:3
DTSTAMP:20260420T175627Z
URL:https://businesshub.southbaldwinchamber.com/chamber-events/Details/bama-coast-cruisin-1691274?sourceTypeId=Hub
END:VEVENT
END:VCALENDAR
