BEGIN:VCALENDAR
VERSION:2.0
PRODID:-//ChamberMaster//Event Calendar 2.0//EN
METHOD:PUBLISH
X-PUBLISHED-TTL:P1H
REFRESH-INTERVAL:P1H
CALSCALE:GREGORIAN
BEGIN:VTIMEZONE
TZID:America/Chicago
BEGIN:DAYLIGHT
RRULE:FREQ=YEARLY;BYMONTH=3;BYDAY=2SU
DTSTART:20070101T000000
TZOFFSETFROM:-0600
TZOFFSETTO:-0500
TZNAME:Central Daylight Time
END:DAYLIGHT
BEGIN:STANDARD
RRULE:FREQ=YEARLY;BYMONTH=11;BYDAY=1SU
DTSTART:20070101T000000
TZOFFSETFROM:-0500
TZOFFSETTO:-0600
TZNAME:Central Standard Time
END:STANDARD
END:VTIMEZONE
BEGIN:VEVENT
DTSTART;TZID=America/Chicago:20260425T160000
DTEND;TZID=America/Chicago:20260425T190000
X-MICROSOFT-CDO-ALLDAYEVENT:FALSE
SUMMARY:Bald Eagle Bash 2026
DESCRIPTION:Party for preservation! The Bald Eagle Bash is a fun\, community-driven celebration supporting local conservation efforts through the South Alabama Land Trust. Guests can enjoy delicious bites from featured restaurants\, live music\, and a lively atmosphere—all while helping protect and preserve natural lands in our area. It’s a great way to give back\, connect with the community\, and experience the best of the local food scene.
X-ALT-DESC;FMTTYPE=text/html:Party for preservation! The Bald Eagle Bash is a fun\, community-driven celebration supporting local conservation efforts through the South Alabama Land Trust. Guests can enjoy delicious bites from featured restaurants\, live music\, and a lively atmosphere—all while helping protect and preserve natural lands in our area. It’s a great way to give back\, connect with the community\, and experience the best of the local food scene.
LOCATION:11525 US Hwy 98 Fairhope AL 36532
UID:e.4650.1435577
SEQUENCE:3
DTSTAMP:20260420T175319Z
URL:https://businesshub.southbaldwinchamber.com/chamber-events/Details/bald-eagle-bash-2026-1699394?sourceTypeId=Hub
END:VEVENT
END:VCALENDAR
