BEGIN:VCALENDAR
VERSION:2.0
PRODID:-//ChamberMaster//Event Calendar 2.0//EN
METHOD:PUBLISH
X-PUBLISHED-TTL:P1H
REFRESH-INTERVAL:P1H
CALSCALE:GREGORIAN
BEGIN:VTIMEZONE
TZID:America/Chicago
BEGIN:DAYLIGHT
RRULE:FREQ=YEARLY;BYMONTH=3;BYDAY=2SU
DTSTART:20070101T000000
TZOFFSETFROM:-0600
TZOFFSETTO:-0500
TZNAME:Central Daylight Time
END:DAYLIGHT
BEGIN:STANDARD
RRULE:FREQ=YEARLY;BYMONTH=11;BYDAY=1SU
DTSTART:20070101T000000
TZOFFSETFROM:-0500
TZOFFSETTO:-0600
TZNAME:Central Standard Time
END:STANDARD
END:VTIMEZONE
BEGIN:VEVENT
DTSTART;TZID=America/Chicago:20260418T080000
DTEND;TZID=America/Chicago:20260418T120000
X-MICROSOFT-CDO-ALLDAYEVENT:FALSE
SUMMARY:4th Annual Earth Day Community Shred & Electronics Recycling Event
DESCRIPTION:In celebration of Earth Day\, Heather Loper & Associates will host a free Community Shred and Electronics Recycling Event for residents across Baldwin County\, Mobile County\, Pensacola\, and surrounding communities.\n\nCommunity members are invited to bring old documents for secure shredding and outdated electronics for recycling. The drive-up event is designed to help residents protect personal information\, reduce household clutter\, and keep recyclable materials out of landfills.\n\nThe event is FREE and open to the public. No appointment is necessary. Participants may simply drive through the parking lot during event hours to drop off items.\n\nResidents from Baldwin County\, Mobile County\, Pensacola\, and surrounding areas are welcome to participate.
X-ALT-DESC;FMTTYPE=text/html:In celebration of Earth Day\, Heather Loper & Associates will host a free Community Shred and Electronics Recycling Event for residents across Baldwin County\, Mobile County\, Pensacola\, and surrounding communities.\n\nCommunity members are invited to bring old documents for secure shredding and outdated electronics for recycling. The drive-up event is designed to help residents protect personal information\, reduce household clutter\, and keep recyclable materials out of landfills.\n\nThe event is FREE and open to the public. No appointment is necessary. Participants may simply drive through the parking lot during event hours to drop off items.\n\nResidents from Baldwin County\, Mobile County\, Pensacola\, and surrounding areas are welcome to participate.
LOCATION:
UID:e.4650.1423182
SEQUENCE:3
DTSTAMP:20260420T180154Z
URL:https://businesshub.southbaldwinchamber.com/chamber-events/Details/4th-annual-earth-day-community-shred-electronics-recycling-event-1682721?sourceTypeId=Hub
END:VEVENT
END:VCALENDAR
