BEGIN:VCALENDAR
VERSION:2.0
PRODID:-//ChamberMaster//Event Calendar 2.0//EN
METHOD:PUBLISH
X-PUBLISHED-TTL:P1H
REFRESH-INTERVAL:P1H
CALSCALE:GREGORIAN
BEGIN:VTIMEZONE
TZID:America/Chicago
BEGIN:DAYLIGHT
RRULE:FREQ=YEARLY;BYMONTH=3;BYDAY=2SU
DTSTART:20070101T000000
TZOFFSETFROM:-0600
TZOFFSETTO:-0500
TZNAME:Central Daylight Time
END:DAYLIGHT
BEGIN:STANDARD
RRULE:FREQ=YEARLY;BYMONTH=11;BYDAY=1SU
DTSTART:20070101T000000
TZOFFSETFROM:-0500
TZOFFSETTO:-0600
TZNAME:Central Standard Time
END:STANDARD
END:VTIMEZONE
BEGIN:VEVENT
DTSTART;TZID=America/Chicago:20260411T100000
DTEND;TZID=America/Chicago:20260411T160000
X-MICROSOFT-CDO-ALLDAYEVENT:FALSE
SUMMARY:46th Annual Gulf Coast Mustang & Mega Car Show
DESCRIPTION:Things are about to get MEGA at the Gulf Coast regional Mustang & Mega Car Show in Downtown OWA! It's time for the 46th annual Gulf Coast Regional Mustang & Mega Car Show presented by the Gulf Coast Regional Mustang Club! This dazzling car show will be held in Downtown OWA on Saturday\, April 11th. Free for anyone to attend. Do you want to participate? Pre-register your hot rod today for only $35 or come the day of the show and register for $40. All proceeds benefit Ronald McDonald House Charities. Register today: https://gcrmustangclub.org/product/owa-pre-registration/ Join us for a day-long adventure as we journey through different types of vehicles   from mustangs\, trucks\, motorcycles\, to (you guessed it!) MEGA cars.  Schedule of Events   7:00   10:00 am: Day-of registration of vehicles near Starbucks   8:00 am   3:00 pm: Vendors in Downtown OWA   10:00 am   2:00 pm: Judging by the GCRMC   3:00 pm   4:00 pm: Awards Ceremony and Trophy Presentation on OWA Island
X-ALT-DESC;FMTTYPE=text/html:<!DOCTYPE html><html><head><title></title></head><body aria-disabled="false"><p>Things are about to get MEGA at the Gulf Coast regional Mustang &amp\; Mega Car Show in Downtown OWA!&nbsp\;</p><p>It&rsquo\;s time for the 46th annual Gulf Coast Regional Mustang &amp\; Mega Car Show presented by the Gulf Coast Regional Mustang Club! This dazzling car show will be held in Downtown OWA on Saturday\, April 11th.&nbsp\;</p><p>Free for anyone to attend. Do you want to participate? Pre-register your hot rod today for only $35 or come the day of the show and register for $40. All proceeds benefit Ronald McDonald House Charities.&nbsp\;</p><p>Register today: <a fr-original-style="" href="https://gcrmustangclub.org/product/owa-pre-registration/" rel="noopener noreferrer" style="user-select: auto\;" target="_blank">https://gcrmustangclub.org/product/owa-pre-registration/</a>&nbsp\;</p><p>Join us for a day-long adventure as we journey through different types of vehicles &mdash\; from mustangs\, trucks\, motorcycles\, to (you guessed it!) MEGA cars.&nbsp\;</p><p>&nbsp\;</p><p><strong fr-original-style="" style="font-weight: 700\;">Schedule of Events&nbsp\;</strong></p><p>&bull\; 7:00 &ndash\; 10:00 am: Day-of registration of vehicles near Starbucks&nbsp\;</p><p>&bull\; 8:00 am &ndash\; 3:00 pm: Vendors in Downtown OWA&nbsp\;</p><p>&bull\; 10:00 am &ndash\; 2:00 pm: Judging by the GCRMC&nbsp\;</p><p>&bull\; 3:00 pm &ndash\; 4:00 pm: Awards Ceremony and Trophy Presentation on OWA Island</p></body></html>
LOCATION:
UID:e.4650.1427756
SEQUENCE:3
DTSTAMP:20260420T180712Z
URL:https://businesshub.southbaldwinchamber.com/chamber-events/Details/46th-annual-gulf-coast-mustang-mega-car-show-1688902?sourceTypeId=Hub
END:VEVENT
END:VCALENDAR
